BEGIN:VCALENDAR
VERSION:2.0
PRODID:-//TPAD - ECPv6.2.2//NONSGML v1.0//EN
CALSCALE:GREGORIAN
METHOD:PUBLISH
X-WR-CALNAME:TPAD
X-ORIGINAL-URL:https://tpadus.org
X-WR-CALDESC:Events for TPAD
REFRESH-INTERVAL;VALUE=DURATION:PT1H
X-Robots-Tag:noindex
X-PUBLISHED-TTL:PT1H
BEGIN:VTIMEZONE
TZID:UTC
BEGIN:STANDARD
TZOFFSETFROM:+0000
TZOFFSETTO:+0000
TZNAME:UTC
DTSTART:20240101T000000
END:STANDARD
END:VTIMEZONE
BEGIN:VEVENT
DTSTART;TZID=UTC:20240918T180000
DTEND;TZID=UTC:20240918T210000
DTSTAMP:20260424T080803
CREATED:20240911T051307Z
LAST-MODIFIED:20240911T051438Z
UID:27339-1726682400-1726693200@tpadus.org
SUMMARY:Boddemma Punnam 2024
DESCRIPTION:Biggest Bathukamma celebrations in the world\n\n\n\n10000+ Visitors Every Year\n\n\n\nFree Entrance for Everyone\n\n\n\nIndoor Facility\, no weather constraints\n\n\n\nFree Covered parking for all\n\n\n\n1500+ Women can play Bathukamma simultaneously\n\n\n\nStar Studded performance and entertainment\n\n\n\nVenue in the heart of DFW metroplex\n\n\n\nBig Screens in the arena for 360 degree View\n\n\n\nMost acclaimed and iconic event of DFW area
URL:https://tpadus.org/event/boddemma-punnam-2024/
LOCATION:Yucca Ridge Park\, 13813 Sutherland Ln\, Frisco\, Texas\, 75035
CATEGORIES:Events
ATTACH;FMTTYPE=image/jpeg:https://tpadus.org/wp-content/uploads/2024/09/6ecdcc00-8529-44eb-a2f6-f00869ba8cea.jpeg
END:VEVENT
END:VCALENDAR